BEGIN:VCALENDAR
VERSION:2.0
PRODID:-//Des Plaines Theatre - ECPv6.15.20//NONSGML v1.0//EN
CALSCALE:GREGORIAN
METHOD:PUBLISH
X-ORIGINAL-URL:https://desplainestheatre.com
X-WR-CALDESC:Events for Des Plaines Theatre
REFRESH-INTERVAL;VALUE=DURATION:PT1H
X-Robots-Tag:noindex
X-PUBLISHED-TTL:PT1H
BEGIN:VTIMEZONE
TZID:America/Chicago
BEGIN:DAYLIGHT
TZOFFSETFROM:-0600
TZOFFSETTO:-0500
TZNAME:CDT
DTSTART:20250309T080000
END:DAYLIGHT
BEGIN:STANDARD
TZOFFSETFROM:-0500
TZOFFSETTO:-0600
TZNAME:CST
DTSTART:20251102T070000
END:STANDARD
BEGIN:DAYLIGHT
TZOFFSETFROM:-0600
TZOFFSETTO:-0500
TZNAME:CDT
DTSTART:20260308T080000
END:DAYLIGHT
BEGIN:STANDARD
TZOFFSETFROM:-0500
TZOFFSETTO:-0600
TZNAME:CST
DTSTART:20261101T070000
END:STANDARD
BEGIN:DAYLIGHT
TZOFFSETFROM:-0600
TZOFFSETTO:-0500
TZNAME:CDT
DTSTART:20270314T080000
END:DAYLIGHT
BEGIN:STANDARD
TZOFFSETFROM:-0500
TZOFFSETTO:-0600
TZNAME:CST
DTSTART:20271107T070000
END:STANDARD
END:VTIMEZONE
BEGIN:VEVENT
DTSTART;TZID=America/Chicago:20260418T200000
DTEND;TZID=America/Chicago:20260418T200000
DTSTAMP:20260421T080233
CREATED:20260410T221501Z
LAST-MODIFIED:20260411T204638Z
UID:10002320-1776542400-1776542400@desplainestheatre.com
SUMMARY:Beyond the Blonde: Tribute to Pink\, Gwen Stefani and Lady Gaga - LADIES GET IN FREE!
DESCRIPTION:Ultimate Pop Tribute Night! 🎤 \nGet ready to unleash your inner superstar! Join us for a night celebrating the powerhouse divas: P!NK\, Gwen Stefani\, and Lady Gaga! \n🌟 What to Expect: \n\n\nHigh-energy performances of all your favorite hits! \n\n\nCostume changes that pay homage to each artist’s iconic style! \n\n\nAudience participation—come ready to sing along! \n\n\nWhether you’re a fan of P!NK’s rebellious anthems\, Gwen’s ska-pop hits\, or Gaga’s avant-garde flair\, this night is for you! Don’t miss out on the ultimate celebration of female pop power! 🎶✨ \nLadies get in FREE! \nUSE LADIES FREE PRICE CODE TO RECEIVE COMPLIMENTARY TICKETS
URL:https://desplainestheatre.com/event/free-show-beyond-the-blonde-tribute-to-pink-gwen-stefani-and-lady-gaga/
LOCATION:Des Plaines Theatre\, 1476 Miner St\, Des Plaines\, 60016\, United States
CATEGORIES:Pop
ATTACH;FMTTYPE=image/png:https://desplainestheatre.com/wp-content/uploads/sites/5/EVENT-SQUARES-2-3.png
END:VEVENT
END:VCALENDAR